BEGIN:VCALENDAR
VERSION:2.0
CREATED:20260425T083558
METHOD:PUBLISH
BEGIN:VEVENT
PRODID:Hanmi Financial Corporation
UID:20260425T083558-827955999-
DTSTAMP:20260425T083558
DTSTART:20260527T173000Z
DTEND:20260527T183000Z
SUMMARY:2026 Annual Meeting of Stockholders
DESCRIPTION:2026 Annual Meeting of Stockholders\n\nDate: May 27, 2026 10:30 am PDT\n\nWebcast: https://www.proxydocs.com/HAFC\n\n
END:VEVENT
END:VCALENDAR
